BEGIN:VCALENDAR
PRODID:-//eluceo/ical//2.0/EN
VERSION:2.0
CALSCALE:GREGORIAN
BEGIN:VEVENT
UID:8ee84963a0155d35efe001d413a804d2
DTSTAMP:20260420T230814Z
SUMMARY:Tea Time and Books: "Light Fell"
DESCRIPTION:UJA Federation of Greater Toronto\nJewish Toronto Calendar\nhtt
 ps://jewishtoronto.com/calendar/tea-time-and-books-light-fell-1508434855\n
 \nBeth David Synagogue Adult Education presents Tea Time and Books – Cel
 ebrating Contemporary Israeli Authors\nA Series of 5 Books $10 per session
  or $35 for the series\n\n"A Horse Walks into a Bar" by David Grossman Tue
 sday\, October 24\, 2017\nModerated by Michael Greenstein\n\n"Light Fell" 
 by Evan Fallenberg Tuesday\, December 5\, 2017\nModerated by Cynthia Good\
 n\n"The Remains of Love" by Zeruya Shalev Tuesday\, February 27\, 2018\nMo
 derated by Joe Kertes\n\n"Waking Lions" by Ayelet Gundar-Gosh...
DTSTART;TZID=America/Toronto:20171205T133000
DTEND;TZID=America/Toronto:20171205T150000
END:VEVENT
END:VCALENDAR
