BEGIN:VCALENDAR
PRODID:-//eluceo/ical//2.0/EN
VERSION:2.0
CALSCALE:GREGORIAN
BEGIN:VEVENT
UID:9c63d3053cc7f0ea0df887eb9c7de737
DTSTAMP:20260423T212839Z
SUMMARY:TanenbaumCHAT Wallenberg Campus Parent Open House
DESCRIPTION:UJA Federation of Greater Toronto\nJewish Toronto Calendar\nhtt
 ps://jewishtoronto.com/calendar/tanenbaumchat-wallenberg-campus-parent-ope
 n-house-1462289019\n\nPlease join us at TanenbaumCHAT Wallenberg campus fo
 r our Parent Open House for students entering Grade 9 in 2017-18.
DTSTART;TZID=America/Toronto:20161101T200000
DTEND;TZID=America/Toronto:20161101T213000
END:VEVENT
END:VCALENDAR
