BEGIN:VCALENDAR
PRODID:-//eluceo/ical//2.0/EN
VERSION:2.0
CALSCALE:GREGORIAN
BEGIN:VEVENT
UID:7d577e0dba25cf6aa532ac77a6711464
DTSTAMP:20260422T054915Z
SUMMARY:TanenbaumCHAT Wallenberg Campus - Parent Open House
DESCRIPTION:UJA Federation of Greater Toronto\nJewish Toronto Calendar\nhtt
 ps://jewishtoronto.com/calendar/tanenbaumchat-wallenberg-campus-parent-ope
 n-house\n\nPlease note an alternative date and time for this Open House is
  Tuesday\, October 27\, 2015 - 9:00 AM - 10:30 AM.\n\nPlease call to regis
 ter.\n\n 
DTSTART;TZID=America/Toronto:20151026T200000
DTEND;TZID=America/Toronto:20151026T213000
END:VEVENT
END:VCALENDAR
