BEGIN:VCALENDAR
PRODID:-//eluceo/ical//2.0/EN
VERSION:2.0
CALSCALE:GREGORIAN
BEGIN:VEVENT
UID:d3d233a904737cc319312341452d2fb6
DTSTAMP:20260422T055656Z
SUMMARY:TanenbaumCHAT Universtiy (TCU
DESCRIPTION:UJA Federation of Greater Toronto\nJewish Toronto Calendar\nhtt
 ps://jewishtoronto.com/calendar/tanenbaumchat-universtiy-tcu-1443112343\n\
 nCome hear from our faculty on current issues.
DTSTART;TZID=America/Toronto:20151105T193000
DTEND;TZID=America/Toronto:20151105T211500
END:VEVENT
END:VCALENDAR
