BEGIN:VCALENDAR
PRODID:-//eluceo/ical//2.0/EN
VERSION:2.0
CALSCALE:GREGORIAN
BEGIN:VEVENT
UID:4b86d3c85fa0c6c26acfb86116fab631
DTSTAMP:20260420T085229Z
SUMMARY:TanenbaumCHAT\, Kimel Family Education Centre Open House
DESCRIPTION:UJA Federation of Greater Toronto\nJewish Toronto Calendar\nhtt
 ps://jewishtoronto.com/calendar/tanenbaumchat-kimel-family-education-centr
 e-open-house-1443112168\n\nCome find out why you should choose TanenbaumCH
 AT for your child's high school career.
DTSTART;TZID=America/Toronto:20151104T200000
DTEND;TZID=America/Toronto:20151104T213000
END:VEVENT
END:VCALENDAR
