BEGIN:VCALENDAR
PRODID:-//eluceo/ical//2.0/EN
VERSION:2.0
CALSCALE:GREGORIAN
BEGIN:VEVENT
UID:2cca6331034e72ff674c84fa265e9a83
DTSTAMP:20260421T180201Z
SUMMARY:TanenbaumCHAT Graduation
DESCRIPTION:UJA Federation of Greater Toronto\nJewish Toronto Calendar\nhtt
 ps://jewishtoronto.com/calendar/tanenbaumchat-graduation-1497970304\n\nTan
 enbaumCHAT&#039\;s Grade 12 Graduation
DTSTART;TZID=America/Toronto:20180620T193000
DTEND;TZID=America/Toronto:20180620T220000
END:VEVENT
END:VCALENDAR
