BEGIN:VCALENDAR
PRODID:-//eluceo/ical//2.0/EN
VERSION:2.0
CALSCALE:GREGORIAN
BEGIN:VEVENT
UID:116ad247c8227b451d66c234a53368e6
DTSTAMP:20260422T132838Z
SUMMARY:Tanenbaum Grade 9 Parent Welcome
DESCRIPTION:UJA Federation of Greater Toronto\nJewish Toronto Calendar\nhtt
 ps://jewishtoronto.com/calendar/tanenbaum-grade-9-parent-welcome-172053549
 2\n\nA meet and greet for grade 9 parents.
DTSTART;TZID=America/Toronto:20240923T183000
DTEND;TZID=America/Toronto:20240923T210000
END:VEVENT
END:VCALENDAR
