BEGIN:VCALENDAR
PRODID:-//eluceo/ical//2.0/EN
VERSION:2.0
CALSCALE:GREGORIAN
BEGIN:VEVENT
UID:6da6b5979758976b79107e7620b943b1
DTSTAMP:20260424T211840Z
SUMMARY:Talking Torah with Daniel Silverman
DESCRIPTION:UJA Federation of Greater Toronto\nJewish Toronto Calendar\nhtt
 ps://jewishtoronto.com/calendar/talking-torah-with-daniel-silverman-165945
 0258\n\nTake a fresh look at the weekly Haftarah with traditional and mode
 rn interpretations of the weekly Haftarah reading with Daniel Silverman. I
 ntroduce some intellectually stimulating and challenging learning into you
 r Shabbat mornings.
DTSTART;TZID=America/Toronto:20220806T093000
DTEND;TZID=America/Toronto:20220806T101500
END:VEVENT
END:VCALENDAR
