BEGIN:VCALENDAR
PRODID:-//eluceo/ical//2.0/EN
VERSION:2.0
CALSCALE:GREGORIAN
BEGIN:VEVENT
UID:4e255bdda129032c4773aae1aaec4a25
DTSTAMP:20260421T213823Z
SUMMARY:Talking Tachless: Israeli Speakers Night 
DESCRIPTION:UJA Federation of Greater Toronto\nJewish Toronto Calendar\nhtt
 ps://jewishtoronto.com/calendar/talking-tachless-israeli-speakers-night\n\
 nTalking Tachless: Israeli Speakers Night\nIn partnership with the Israel 
 Consulate General\, UJA Federation of Greater Toronto\, and The Jewish Age
 ncy for Israel\nWednesday April 22 | 7:30 pm (doors open at 7:00 pm)\nAl G
 reen Theatre in the MNjcc\nCelebrate Israel's 67th Independence Day and th
 e great spirit of its people. Featured speakers: Maj. Gen. Orna Barbivay\,
  the highest ranking female officer in the history of the IDF\; Professor 
 Rephael Hofstein\, President and CEO of MaRS Innovation\; and ...
DTSTART;TZID=America/Toronto:20150422T193000
DTEND;TZID=America/Toronto:20150422T220000
END:VEVENT
END:VCALENDAR
