BEGIN:VCALENDAR
PRODID:-//eluceo/ical//2.0/EN
VERSION:2.0
CALSCALE:GREGORIAN
BEGIN:VEVENT
UID:f526f4424d1136f5dd8916ef7c6b9bc7
DTSTAMP:20260424T144219Z
SUMMARY:Talk-Rabbi Dr. Ron Kronish & Sheikh Ghassan Manasra-The Other Peace
  Process
DESCRIPTION:UJA Federation of Greater Toronto\nJewish Toronto Calendar\nhtt
 ps://jewishtoronto.com/calendar/talk-rabbi-dr-ron-kronish--kadi-dr-iyad-za
 halka-the-other-peace-process\n\n2015 Ralph & Roslyn Halbert Visiting Scho
 lars\n\nRabbi Dr. Ron Kronish and Sheikh Ghassan Manasra\n\nTHE OTHER PEAC
 E PROCESS - 2 part talk\n\nPart 1:  INTERRELIGIOUS DIALOGUE IN ISRAEL AND
  PALESTINE IN THE SERVICE OF PEACE\n\nPart 2:  IS ARAB-JEWISH COEXISTENCE
  IN ISRAEL STILL POSSIBLE? - Thursday\, October 8 at 7:30 pm\n\nat Beth Tz
 edec Congregation\, 1700 Bathurst Street
DTSTART;TZID=America/Toronto:20151007T190000
DTEND;TZID=America/Toronto:20151007T210000
END:VEVENT
END:VCALENDAR
