BEGIN:VCALENDAR
PRODID:-//eluceo/ical//2.0/EN
VERSION:2.0
CALSCALE:GREGORIAN
BEGIN:VEVENT
UID:cd6b90623435f579708935c4a4b0579e
DTSTAMP:20260422T223124Z
SUMMARY:Talk by Dr. Liyakat Takim -  “Is Islam Really a Religion of Peace
 ?”
DESCRIPTION:UJA Federation of Greater Toronto\nJewish Toronto Calendar\nhtt
 ps://jewishtoronto.com/calendar/talk-by-dr-liyakat-takim-is-islam-really-a
 -religion-of-peace\n\nRABBI MICHAEL & CELIA STROH LECTURE PRESENTS…\nDr.
  Liyakat Takim\, Professor at McMaster University\, as he speaks on “Is 
 Islam Really a Religion of Peace?”\n\n 
DTSTART;TZID=America/Toronto:20151119T193000
DTEND;TZID=America/Toronto:20151119T210000
END:VEVENT
END:VCALENDAR
