BEGIN:VCALENDAR
PRODID:-//eluceo/ical//2.0/EN
VERSION:2.0
CALSCALE:GREGORIAN
BEGIN:VEVENT
UID:c0dae0d4965ceb3f2650d8b82d116c6d
DTSTAMP:20260419T125836Z
SUMMARY:Talk by Author Naomi Ragen about her book "The Sisters Weiss"
DESCRIPTION:UJA Federation of Greater Toronto\nJewish Toronto Calendar\nhtt
 ps://jewishtoronto.com/calendar/talk-by-author-naomi-ragen-about-her-book-
 the-sisters-weiss\n\n$54.00 preferred seating\; $#6.00 general seating\n\n
 Na'amat CanadaToronto's Club viva presents internationally acclaimed autho
 r "Naomi Ragen". She will speak about her latest bestseller "The Sisters W
 eiss". A tale of two Haredi sisters: the one who left and the one who stay
 ed behind\, some of their challenges\, triumphs and failures. \n\nBook si
 gning and dessert reception (Kashruth observed)\n\nTickets available at Na
 amattoronto.com or by calling 416-636-5425\n\n 
DTSTART;TZID=America/Toronto:20141112T193000
DTEND;TZID=America/Toronto:20141112T213000
END:VEVENT
END:VCALENDAR
