BEGIN:VCALENDAR
PRODID:-//eluceo/ical//2.0/EN
VERSION:2.0
CALSCALE:GREGORIAN
BEGIN:VEVENT
UID:bfcad3251d9dbca8da10bbabf261d809
DTSTAMP:20260420T201259Z
SUMMARY:Swinging for Reena hosted by Tribute Communities
DESCRIPTION:UJA Federation of Greater Toronto\nJewish Toronto Calendar\nhtt
 ps://jewishtoronto.com/calendar/swinging-for-reena-hosted-by-tribute-commu
 nities-1464122847\n\nTribute Communities is hosting the exceptional Swingi
 ng for Reena Charity Golf Tournament for a sixth year. The day of golfing 
 at Angus Glen Golf Club includes lunch on the course and is followed by a 
 dinner reception.\n\nAll proceeds from Swinging for Reena Charity Golf Tou
 rnament support residential respite at Reena. Respite is a proactive and p
 reventative service which provides a safe and supportive environment where
  individuals with developmental disabilities can learn and flourish. It...
DTSTART;TZID=America/Toronto:20160712T090000
DTEND;TZID=America/Toronto:20160712T235959
END:VEVENT
END:VCALENDAR
