BEGIN:VCALENDAR
PRODID:-//eluceo/ical//2.0/EN
VERSION:2.0
CALSCALE:GREGORIAN
BEGIN:VEVENT
UID:c04b21afaf5bae3a79de380f77829062
DTSTAMP:20260424T152148Z
SUMMARY:Swinging for Reena Charity Golf Tournament
DESCRIPTION:UJA Federation of Greater Toronto\nJewish Toronto Calendar\nhtt
 ps://jewishtoronto.com/calendar/swinging-for-reena-charity-golf-tournament
 -1\n\nTribute Communities is hosting the exceptional Swinging for Reena Ch
 arity Golf Tournament for a fifth year. The day of golf includes lunch on 
 the course and is followed by a dinner reception. Proceeds from the event 
 benefit Reena’s Respite and Enrichment programs for children and adults 
 with developmental disabilities.\n\nThis tournament sells out every year! 
 Only 36 foursomes are available. To reserve your foursome or event sponsor
 ship\, or for more information\, please contact Rachel.\n\n ...
DTSTART;TZID=America/Toronto:20150714T090000
DTEND;TZID=America/Toronto:20150714T180000
END:VEVENT
END:VCALENDAR
