BEGIN:VCALENDAR
PRODID:-//eluceo/ical//2.0/EN
VERSION:2.0
CALSCALE:GREGORIAN
BEGIN:VEVENT
UID:3594fae276fd5f99371b88ed41bec394
DTSTAMP:20260422T131730Z
SUMMARY:Sweeney Todd: The Demon Barber of Fleet Street
DESCRIPTION:UJA Federation of Greater Toronto\nJewish Toronto Calendar\nhtt
 ps://jewishtoronto.com/calendar/sweeney-todd-the-demon-barber-of-fleet-str
 eet\n\nSweeney Todd: The Demon Barber of Fleet Street\nPresented by Alexan
 der Showcase Theatre in partnership with the Al Green Theatre\nThursday Ap
 ril 30  - Sunday May 10 I 7:30 pm (Sundays 2:00 pm)\nStephen Sondheim’s
  devilishly hilarious masterpiece. Follow Sweeney Todd the maniacal hairdr
 esser\, as he teams up with Mrs. Lovett\, the enterprising purveyor of Lon
 don’s tastiest meat pies\, on an unusual journey of revenge.  Gloriousl
 y gruesome and remarkably funny\, Sweeney Todd is a must-see mus...
DTSTART;TZID=America/Toronto:20150430T193000
DTEND;TZID=America/Toronto:20150430T213000
END:VEVENT
END:VCALENDAR
