BEGIN:VCALENDAR
PRODID:-//eluceo/ical//2.0/EN
VERSION:2.0
CALSCALE:GREGORIAN
BEGIN:VEVENT
UID:cd4d933d5f79cb620afee4bd6f1d1be3
DTSTAMP:20260419T235102Z
SUMMARY:Super Sunday
DESCRIPTION:UJA Federation of Greater Toronto\nJewish Toronto Calendar\nhtt
 ps://jewishtoronto.com/calendar/super-sunday\n\nSuper Sunday
DTSTART;TZID=America/Toronto:20150920T090000
DTEND;TZID=America/Toronto:20150920T210000
END:VEVENT
END:VCALENDAR
