BEGIN:VCALENDAR
PRODID:-//eluceo/ical//2.0/EN
VERSION:2.0
CALSCALE:GREGORIAN
BEGIN:VEVENT
UID:395e905a882647cabeab5e33d3eeaf62
DTSTAMP:20260422T124653Z
SUMMARY:Sunday Funday with Beth Emeth and Adath Israel
DESCRIPTION:UJA Federation of Greater Toronto\nJewish Toronto Calendar\nhtt
 ps://jewishtoronto.com/calendar/sunday-funday-with-beth-emeth-and-adath-is
 rael-1640017981\n\nStrap on your skates and join Beth Emeth and Adath Isra
 el as we go ice skating at Irving Chapley ice rink. Register Here: https:/
 /www.beby.org/event/sundayfunday.html
DTSTART;TZID=America/Toronto:20220213T110000
DTEND;TZID=America/Toronto:20220213T120000
END:VEVENT
END:VCALENDAR
