BEGIN:VCALENDAR
PRODID:-//eluceo/ical//2.0/EN
VERSION:2.0
CALSCALE:GREGORIAN
BEGIN:VEVENT
UID:26015c44511f310a280c5e944c4c8a78
DTSTAMP:20260419T153024Z
SUMMARY:Summertime Learning with Rabbi Grover and Rabbi Sachs
DESCRIPTION:UJA Federation of Greater Toronto\nJewish Toronto Calendar\nhtt
 ps://jewishtoronto.com/calendar/summertime-learning-with-rabbi-grover-and-
 rabbi-sachs-1559160039\n\nJoin our Rabbis' 1 hour before Mincha to learn T
 almud.
DTSTART;TZID=America/Toronto:20190824T184000
DTEND;TZID=America/Toronto:20190824T194000
END:VEVENT
END:VCALENDAR
