BEGIN:VCALENDAR
PRODID:-//eluceo/ical//2.0/EN
VERSION:2.0
CALSCALE:GREGORIAN
BEGIN:VEVENT
UID:3c767709c63a145b8d207c4c7a559ce7
DTSTAMP:20260421T085203Z
SUMMARY:Summertime Learning with Rabbi Grover and Rabbi Sachs
DESCRIPTION:UJA Federation of Greater Toronto\nJewish Toronto Calendar\nhtt
 ps://jewishtoronto.com/calendar/summertime-learning-with-rabbi-grover-and-
 rabbi-sachs-1559159958\n\nJoin our Rabbis' 1 hour before Mincha to learn T
 almud.
DTSTART;TZID=America/Toronto:20190810T190000
DTEND;TZID=America/Toronto:20190810T200000
END:VEVENT
END:VCALENDAR
