BEGIN:VCALENDAR
PRODID:-//eluceo/ical//2.0/EN
VERSION:2.0
CALSCALE:GREGORIAN
BEGIN:VEVENT
UID:794b26924230b7d12faa391e81a37490
DTSTAMP:20260423T220832Z
SUMMARY:Summertime Learning with Rabbi Grover and Rabbi Sachs
DESCRIPTION:UJA Federation of Greater Toronto\nJewish Toronto Calendar\nhtt
 ps://jewishtoronto.com/calendar/summertime-learning-with-rabbi-grover-and-
 rabbi-sachs-1559159920\n\nJoin our Rabbis' 1 hour before Mincha to learn T
 almud.
DTSTART;TZID=America/Toronto:20190803T191000
DTEND;TZID=America/Toronto:20190803T201000
END:VEVENT
END:VCALENDAR
