BEGIN:VCALENDAR
PRODID:-//eluceo/ical//2.0/EN
VERSION:2.0
CALSCALE:GREGORIAN
BEGIN:VEVENT
UID:3acb7e7cbe7c93f86af5705ec5722126
DTSTAMP:20260421T085137Z
SUMMARY:Summertime Learning with Rabbi Grover and Rabbi Sachs
DESCRIPTION:UJA Federation of Greater Toronto\nJewish Toronto Calendar\nhtt
 ps://jewishtoronto.com/calendar/summertime-learning-with-rabbi-grover-and-
 rabbi-sachs-1559159861\n\nJoin our Rabbis' 1 hour before Mincha to learn T
 almud.
DTSTART;TZID=America/Toronto:20190727T192000
DTEND;TZID=America/Toronto:20190727T202000
END:VEVENT
END:VCALENDAR
