BEGIN:VCALENDAR
PRODID:-//eluceo/ical//2.0/EN
VERSION:2.0
CALSCALE:GREGORIAN
BEGIN:VEVENT
UID:d9dfc63185011a1873058bbf30e309e8
DTSTAMP:20260423T131813Z
SUMMARY:Summer Movie Nights: Dinah's Piano
DESCRIPTION:UJA Federation of Greater Toronto\nJewish Toronto Calendar\nhtt
 ps://jewishtoronto.com/calendar/summer-movie-nights-dinahs-piano-156227648
 5\n\nProducer and author Bette Elle Klimitz\n\nThis special evening featur
 es a screening of the documentary based on the book Dinah's Piano\, follow
 ed by a short lecture and a theatrical performance with award-winning perf
 ormers David Gale and Theresa Tova. \n\nThe documentary\, based on the boo
 k Dinah's Piano\, is the vivid and inspiring story that spotlights the ext
 raordinary life of an ultra-orthodox child prodigy\, Dinah Frimit. In spit
 e of the adversaries she faced\, throughout her life\, Dinah...
DTSTART;TZID=America/Toronto:20190717T193000
DTEND;TZID=America/Toronto:20190717T213000
END:VEVENT
END:VCALENDAR
