BEGIN:VCALENDAR
PRODID:-//eluceo/ical//2.0/EN
VERSION:2.0
CALSCALE:GREGORIAN
BEGIN:VEVENT
UID:6dd9dd8123e4ed4252064a7426e22954
DTSTAMP:20260419T180652Z
SUMMARY:Sukkoth
DESCRIPTION:UJA Federation of Greater Toronto\nJewish Toronto Calendar\nhtt
 ps://jewishtoronto.com/calendar/sukkoth\n\nSukkoth
DTSTART;TZID=America/Toronto:20150928T000000
DTEND;TZID=America/Toronto:20150929T000000
END:VEVENT
END:VCALENDAR
