BEGIN:VCALENDAR
PRODID:-//eluceo/ical//2.0/EN
VERSION:2.0
CALSCALE:GREGORIAN
BEGIN:VEVENT
UID:03f8295dcba20478f80d19e84e1d13cb
DTSTAMP:20260425T135205Z
SUMMARY:Sukkot Special Memorial Service - Remembering October 7th
DESCRIPTION:UJA Federation of Greater Toronto\nJewish Toronto Calendar\nhtt
 ps://jewishtoronto.com/calendar/sukkot-special-memorial-service---remember
 ing-october-7th-1759323231\n\nWe will reflect on two years since October 7
 th\, 2023 through song and poetry\, and pray for peace. Teens and adults a
 re welcome.\n\nRegistration required: http://www.cityshul.com/event/Sukkot
 -Memorial-Service-5786.html\n\n 
DTSTART;TZID=America/Toronto:20251007T190000
DTEND;TZID=America/Toronto:20251007T203000
END:VEVENT
END:VCALENDAR
