BEGIN:VCALENDAR
PRODID:-//eluceo/ical//2.0/EN
VERSION:2.0
CALSCALE:GREGORIAN
BEGIN:VEVENT
UID:29f680a29910eec1141f09704665e49c
DTSTAMP:20260421T113508Z
SUMMARY:Sue-Ann Levy at Adath Israel - Award Winning Journalist
DESCRIPTION:UJA Federation of Greater Toronto\nJewish Toronto Calendar\nhtt
 ps://jewishtoronto.com/calendar/sue-ann-levy-at-adath-israel---award-winni
 ng-journalist-1551800915\n\nShe has made it her crusade to expose waste an
 d mismanagement\, to promote an unpopular cost-cutting agenda and to probe
  issues no other journalist has dared to tackle.\n\nGay and right-of-centr
 e politically\, Sue-Ann is known for fighting against the rise in anti-sem
 itism and BDS and for advocating for the poor\, the homeless\, the elderly
  and others without a voice.\n
DTSTART;TZID=America/Toronto:20190313T120000
DTEND;TZID=America/Toronto:20190313T140000
END:VEVENT
END:VCALENDAR
