BEGIN:VCALENDAR
PRODID:-//eluceo/ical//2.0/EN
VERSION:2.0
CALSCALE:GREGORIAN
BEGIN:VEVENT
UID:0e62c16275c8474bd235cb466f8e6c90
DTSTAMP:20260423T234223Z
SUMMARY:Struggling with Faith in the Time of Adversity with Prof. James Dia
 mond
DESCRIPTION:UJA Federation of Greater Toronto\nJewish Toronto Calendar\nhtt
 ps://jewishtoronto.com/calendar/struggling-with-faith-in-the-time-of-adver
 sity-with-prof-james-diamond-1603306377\n\nProfessor James Diamond\, the J
 oseph and Wolf Lebovic Chair in Jewish Studies at the University of Waterl
 oo\, leads a fascinating presentation on the teachings of Rabbi Kalmonymus
  Kalman Shapira\, the Grand Rabbi of Piaseczno\, Poland\, who authored a n
 umber of works before his murder by the Nazis during the Shoah. What do hi
 s writings teach us in these times of political strife and a world-wide pa
 ndemic?\n\nNo charge\, but pre-registration required.
DTSTART;TZID=America/Toronto:20201027T193000
DTEND;TZID=America/Toronto:20201027T210000
END:VEVENT
END:VCALENDAR
