BEGIN:VCALENDAR
PRODID:-//eluceo/ical//2.0/EN
VERSION:2.0
CALSCALE:GREGORIAN
BEGIN:VEVENT
UID:212fcaabd3d6288001600ee39b748a86
DTSTAMP:20260420T040759Z
SUMMARY:Strings of Triumph - Honouring the Souls of Six Million Jews
DESCRIPTION:UJA Federation of Greater Toronto\nJewish Toronto Calendar\nhtt
 ps://jewishtoronto.com/calendar/strings-of-triumph-honouring-the-souls-of-
 six-million-jews\n\nPlease join us for an evening in support of Chabad of 
 Maple STRINGS OF TRIUMPH - A Musical performance by Moshe Hammer.  This i
 s an exceptional performance of pre-war European Jewish Music honouring th
 e Souls of Six million Jews. Live art by Jessica Gorlicky.  Tickets are $
 90 per person\n\nSushi\, Wine\, Desserts\n\nEvent website:  http://www.st
 ringsoftriumph.ca\n\n 
DTSTART;TZID=America/Toronto:20141110T193000
DTEND;TZID=America/Toronto:20141110T213000
END:VEVENT
END:VCALENDAR
