BEGIN:VCALENDAR
PRODID:-//eluceo/ical//2.0/EN
VERSION:2.0
CALSCALE:GREGORIAN
BEGIN:VEVENT
UID:7578ef973153021b30209270c34823d9
DTSTAMP:20260423T021143Z
SUMMARY:Striking for Reena 2020 - VIRTUAL
DESCRIPTION:UJA Federation of Greater Toronto\nJewish Toronto Calendar\nhtt
 ps://jewishtoronto.com/calendar/striking-for-reena-2020-1597178130\n\n9th 
 Annual VIRTUAL Striking for Reena Bowling Event\n\nThis event has raised o
 ver $1.3 million. Striking for Reena is more than just bowling - it's abou
 t the individuals we support. This year's event may look different\, but t
 he need in our community is greater than ever. With your support\, we can 
 continue to make a difference in the lives of people with developmental di
 sabilities.
DTSTART;TZID=America/Toronto:20201018T120000
DTEND;TZID=America/Toronto:20201018T130000
END:VEVENT
END:VCALENDAR
