BEGIN:VCALENDAR
PRODID:-//eluceo/ical//2.0/EN
VERSION:2.0
CALSCALE:GREGORIAN
BEGIN:VEVENT
UID:dfb918379dd74346fb51f700966c14e9
DTSTAMP:20260424T184949Z
SUMMARY:Striking for Reena
DESCRIPTION:UJA Federation of Greater Toronto\nJewish Toronto Calendar\nhtt
 ps://jewishtoronto.com/calendar/striking-for-reena-1708639150\n\nFor over 
 50 years\, Reena has been providing housing\, programs and employment serv
 ices for individuals with Autism\, mental health challenges and other dive
 rse needs. Reena supports over 1\,000 people across the GTA.\n\nStriking f
 or Reena is an annual bowling event. It is overwhelmingly popular because 
 it’s so inclusive. Families\, friends and supporters bowl alongside indi
 viduals supported by Reena. With family fun at the heart of the event\, th
 ere’s truly something for everyone. In addition ...
DTSTART;TZID=America/Toronto:20240505T123000
DTEND;TZID=America/Toronto:20240505T150000
END:VEVENT
END:VCALENDAR
