BEGIN:VCALENDAR
PRODID:-//eluceo/ical//2.0/EN
VERSION:2.0
CALSCALE:GREGORIAN
BEGIN:VEVENT
UID:700230a5a73f803744c6187c5fd46e73
DTSTAMP:20260420T181101Z
SUMMARY:Strictly Business 2014
DESCRIPTION:UJA Federation of Greater Toronto\nJewish Toronto Calendar\nhtt
 ps://jewishtoronto.com/calendar/strictly-business-2014\n\nFeaturing Len Ji
 llard\, Senior Vice-President People Resources & Chief People Officer\, Mc
 Donald's Restaurants of Canada and Dana Levenson\, Weather Anchor/News Rep
 orter\, CTV Toronto
DTSTART;TZID=America/Toronto:20140521T120000
DTEND;TZID=America/Toronto:20140521T134500
END:VEVENT
END:VCALENDAR
