BEGIN:VCALENDAR
PRODID:-//eluceo/ical//2.0/EN
VERSION:2.0
CALSCALE:GREGORIAN
BEGIN:VEVENT
UID:f9b5862b8467a9922d81fec0e7611a52
DTSTAMP:20260419T221205Z
SUMMARY:Strand(ED) - Genetics with Mount Sinai Hospital
DESCRIPTION:UJA Federation of Greater Toronto\nJewish Toronto Calendar\nhtt
 ps://jewishtoronto.com/calendar/stranded---genetics-with-mount-sinai-hospi
 tal-1469480987\n\nFor more information about this event\, visit thehouseto
 ronto.com or contact Bonnie Oppenheimer at bonnie@thehousetoronto.com.
DTSTART;TZID=America/Toronto:20160920T193000
DTEND;TZID=America/Toronto:20160920T223000
END:VEVENT
END:VCALENDAR
