BEGIN:VCALENDAR
PRODID:-//eluceo/ical//2.0/EN
VERSION:2.0
CALSCALE:GREGORIAN
BEGIN:VEVENT
UID:692db3221c17ba73fc4affd30413617a
DTSTAMP:20260421T160027Z
SUMMARY:Straight to the Heart Casino Night in support of Save a Child's Hea
 rt 
DESCRIPTION:UJA Federation of Greater Toronto\nJewish Toronto Calendar\nhtt
 ps://jewishtoronto.com/calendar/straight-to-the-heart-casino-night-in-supp
 ort-of-save-a-childs-heart\n\nSecond annual Straight to the Heart Casino n
 ight in support of Save a Child's Heart (SACH). \n\nJoin us for a night of
  great food\, drinks\, music\, casino games and amazing prizes! Please hel
 p us raise funds to support life-saving heart surgery for children from de
 veloping countries\, through the SACH program. Last year’s event was a h
 uge success\, raising over $50\,000!             \n\nwww.save
 achildsheart.ca 
DTSTART;TZID=America/Toronto:20151020T190000
DTEND;TZID=America/Toronto:20151020T233000
END:VEVENT
END:VCALENDAR
