BEGIN:VCALENDAR
PRODID:-//eluceo/ical//2.0/EN
VERSION:2.0
CALSCALE:GREGORIAN
BEGIN:VEVENT
UID:a7ff903125ffa55ffbf65344908772c0
DTSTAMP:20260422T171211Z
SUMMARY:Storyfest Show B - Tales from the Heart plus Story Slam
DESCRIPTION:UJA Federation of Greater Toronto\nJewish Toronto Calendar\nhtt
 ps://jewishtoronto.com/calendar/storyfest-show-b---tales-from-the-heart-pl
 us-story-slam-1615869349\n\nact2studioWORKS PRESENTS STORYFEST! A FESTIVAL
  OF STORYTELLING ON ZOOM! \nCOME JOIN US FOR: SHOW B - TALES FROM THE HEAR
 T (PLUS STORY SLAM)!
DTSTART;TZID=America/Toronto:20210409T190000
DTEND;TZID=America/Toronto:20210409T210000
END:VEVENT
END:VCALENDAR
