BEGIN:VCALENDAR
PRODID:-//eluceo/ical//2.0/EN
VERSION:2.0
CALSCALE:GREGORIAN
BEGIN:VEVENT
UID:9f6944a29bf45178702e18aee562048c
DTSTAMP:20260423T040512Z
SUMMARY:Storyfest Show A - Tales of Wonder
DESCRIPTION:UJA Federation of Greater Toronto\nJewish Toronto Calendar\nhtt
 ps://jewishtoronto.com/calendar/storyfest-show-a---tales-of-wonder-1615868
 934\n\nact2studioWORKS PRESENTS STORYFEST! A FESTIVAL OF STORYTELLING ON Z
 OOM! \nCOME JOIN US FOR: SHOW A - TALES OF WONDER!
DTSTART;TZID=America/Toronto:20210409T140000
DTEND;TZID=America/Toronto:20210409T153000
END:VEVENT
END:VCALENDAR
