BEGIN:VCALENDAR
PRODID:-//eluceo/ical//2.0/EN
VERSION:2.0
CALSCALE:GREGORIAN
BEGIN:VEVENT
UID:a40c21b808c030c430ed90ae765a3e52
DTSTAMP:20260420T024422Z
SUMMARY:Stories of Spadina Walking Tour
DESCRIPTION:UJA Federation of Greater Toronto\nJewish Toronto Calendar\nhtt
 ps://jewishtoronto.com/calendar/stories-of-spadina-walking-tour-1493906056
 \n\nTravel back in time to an era when Kensington Market was a thriving Je
 wish village teeming with kosher bakeries\, synagogues\, and social clubs.
  On this tour\, Jewish Toronto's past—biographies of its former inhabita
 nts\; the sounds\; the smells\; Yiddish language\; religious\, social\, an
 d political attitudes—is brought to life. Visits to the architectural ge
 ms that remain in the area today are supplemented by photographs from the 
 holdings of the OJA as vivid reminders of a once vibrant community....
DTSTART;TZID=America/Toronto:20170716T110000
DTEND;TZID=America/Toronto:20170716T130000
END:VEVENT
END:VCALENDAR
