BEGIN:VCALENDAR
PRODID:-//eluceo/ical//2.0/EN
VERSION:2.0
CALSCALE:GREGORIAN
BEGIN:VEVENT
UID:87ec165e6e615888a3fe25d185e59f8a
DTSTAMP:20260421T191113Z
SUMMARY:Stories from the Shoah for Young People and Adults
DESCRIPTION:UJA Federation of Greater Toronto\nJewish Toronto Calendar\nhtt
 ps://jewishtoronto.com/calendar/stories-from-the-shoah-for-young-people-an
 d-adults\n\nSecond Story Press with Community Partner Miles Nadal JCC pres
 ent\nStories from the Shoah for Young People and Adults\nMonday April 13 |
  7 pm at the Miles Nadal JCC\nTo honour the 70th anniversary of the libera
 tion of Auschwitz and the end of the Second World War\, Second Story Press
  presents four new books that focus on the experiences of the war both in 
 Europe and at home in Canada.\nHighlights to include readings from The Cho
 ice by Kathy Clark\, War in My Town by E. Graziani and The Farmeret...
DTSTART;TZID=America/Toronto:20150413T190000
DTEND;TZID=America/Toronto:20150413T210000
END:VEVENT
END:VCALENDAR
