BEGIN:VCALENDAR
PRODID:-//eluceo/ical//2.0/EN
VERSION:2.0
CALSCALE:GREGORIAN
BEGIN:VEVENT
UID:d9d336da99e05447db5c682852aa61f6
DTSTAMP:20260419T205443Z
SUMMARY:Steve Reich’s Different Trains Bearing Musical Witness to the Hol
 ocaust
DESCRIPTION:UJA Federation of Greater Toronto\nJewish Toronto Calendar\nhtt
 ps://jewishtoronto.com/calendar/steve-reichs-different-trains-bearing-musi
 cal-witness-to-the-holocaust-1547593455\n\nSteve Reich’s Different Train
 s: Bearing Musical Witness to the Holocaust\nCo-presented by Soundstreams 
 and Miles Nadal JCC\nTuesday January 22\, Doors Open at 7PM\, Discussion 7
 :30-8:45PM \nMiles Nadal Jewish Community Centre\, Rm 318\n750 Spadina Ave
  (at Bloor)\nThis is a Free Event\nFor further info: http://bit.ly/2H3klDu
 \n
DTSTART;TZID=America/Toronto:20190122T190000
DTEND;TZID=America/Toronto:20190122T210000
END:VEVENT
END:VCALENDAR
