BEGIN:VCALENDAR
PRODID:-//eluceo/ical//2.0/EN
VERSION:2.0
CALSCALE:GREGORIAN
BEGIN:VEVENT
UID:ede1adcabf3db9f9d27a4f4d1d234e21
DTSTAMP:20260420T231556Z
SUMMARY:Staying Connected during COVID-19
DESCRIPTION:UJA Federation of Greater Toronto\nJewish Toronto Calendar\nhtt
 ps://jewishtoronto.com/calendar/staying-connected-during-covid-19-15882666
 79\n\nStaying Connected during COVID-19: What faiths advise us in difficul
 t times of crises\nONLINE WEBINAR: https://youtu.be/BEV-pdGVCAk
DTSTART;TZID=America/Toronto:20200430T170000
DTEND;TZID=America/Toronto:20200430T180000
END:VEVENT
END:VCALENDAR
