BEGIN:VCALENDAR
PRODID:-//eluceo/ical//2.0/EN
VERSION:2.0
CALSCALE:GREGORIAN
BEGIN:VEVENT
UID:29a414b454edf378dd4569bdbdd0e62d
DTSTAMP:20260423T000749Z
SUMMARY:State of the Union - Friends of Simon Wiesenthal Center
DESCRIPTION:UJA Federation of Greater Toronto\nJewish Toronto Calendar\nhtt
 ps://jewishtoronto.com/calendar/state-of-the-union-friends-of-simon-wiesen
 thal-center\n\nState of the Union - Friends of Simon Wiesenthal Center
DTSTART;TZID=America/Toronto:20151007T190000
DTEND;TZID=America/Toronto:20151007T220000
END:VEVENT
END:VCALENDAR
