BEGIN:VCALENDAR
PRODID:-//eluceo/ical//2.0/EN
VERSION:2.0
CALSCALE:GREGORIAN
BEGIN:VEVENT
UID:e0ed4b0a8ccdd83249cd492b7a345f38
DTSTAMP:20260422T165232Z
SUMMARY:StandWithUs Canada Theatre Night - The Band's Visit
DESCRIPTION:UJA Federation of Greater Toronto\nJewish Toronto Calendar\nhtt
 ps://jewishtoronto.com/calendar/standwithus-canada-theatre-night---the-ban
 ds-visit-1560367815\n\nSpend an evening in the company of unforgettable st
 rangers at The Band’s Visit — now one of the most celebrated musicals 
 ever. It rejoices in the way music brings us to life\, brings us to laught
 er\, brings us to tears\, and ultimately\, brings us together.\n\nIn an Is
 raeli desert town where every day feels the same\, something different is 
 suddenly in the air. Dina\, the local café owner\, had long resigned her 
 desires for romance to daydreaming about exotic films and music from her y
 outh....
DTSTART;TZID=America/Toronto:20190924T200000
DTEND;TZID=America/Toronto:20190924T223000
END:VEVENT
END:VCALENDAR
