BEGIN:VCALENDAR
PRODID:-//eluceo/ical//2.0/EN
VERSION:2.0
CALSCALE:GREGORIAN
BEGIN:VEVENT
UID:ca39c00a87f32fb44de6bda234745bb6
DTSTAMP:20260420T085712Z
SUMMARY:Standing at Sinai – Tikkun Shavuot A program of learning and musi
 c
DESCRIPTION:UJA Federation of Greater Toronto\nJewish Toronto Calendar\nhtt
 ps://jewishtoronto.com/calendar/standing-at-sinai--tikkun-shavuot-a-progra
 m-of-learning-and-music-1620057157\n\nA Temple Sinai Program: Reform Jewis
 h Community of Canada  Standing at Sinai – Tikkun Shavuot A program of l
 earning and music Sunday\, May 16 from 6.45 p.m. to 2.00 a.m.Once again\, 
 this year\, Reform Jewish congregations across Canada will offer Shavuot j
 oy and learning together online with seven learning sessions and musical i
 nterludes.From 9.15 p.m. to 9.30 p.m.\, Rabbi Michael Dolgin and Cantor Ch
 arles Osborne will lead a study session featuring a new composition commis
 sioned in memory of J...
DTSTART;TZID=America/Toronto:20210516T184500
DTEND;TZID=America/Toronto:20210517T020000
END:VEVENT
END:VCALENDAR
