BEGIN:VCALENDAR
PRODID:-//eluceo/ical//2.0/EN
VERSION:2.0
CALSCALE:GREGORIAN
BEGIN:VEVENT
UID:98170c04c96f2692e65c479937d06c52
DTSTAMP:20260420T040910Z
SUMMARY:Stand Up Comedy & Disability Showcase
DESCRIPTION:UJA Federation of Greater Toronto\nJewish Toronto Calendar\nhtt
 ps://jewishtoronto.com/calendar/stand-up-comedy-disability-showcase\n\nJoi
 n us for the final showcase of comedian Courtney Gilmour's stand up course
 \, "Stand Up Comedy & Disability". As part of a 10 week comedy workshop at
  Miles Nadal Jewish Community Centre\, eight students present the culminat
 ion of their hard work in 5 minute sets telling jokes about their lives\, 
 interests\, and the daily encounters they face while living with a disabil
 ity. Hosted by Courtney Gilmour with special guest Michael McCreary.\n\nTi
 ckets: $10 general admission/$6 for Second City Traini...
DTSTART;TZID=America/Toronto:20200209T200000
DTEND;TZID=America/Toronto:20200209T220000
END:VEVENT
END:VCALENDAR
