BEGIN:VCALENDAR
PRODID:-//eluceo/ical//2.0/EN
VERSION:2.0
CALSCALE:GREGORIAN
BEGIN:VEVENT
UID:a5a490b6bd80c64d30a9fcf8058cdb02
DTSTAMP:20260422T104038Z
SUMMARY:St. Catharines Chanukah Party at B'nai Israel Community Centre
DESCRIPTION:UJA Federation of Greater Toronto\nJewish Toronto Calendar\nhtt
 ps://jewishtoronto.com/calendar/st-catharines-chanukah-party-at-bnai-israe
 l-community-centre-1448904941\n\nChanukah party open to all. Children's co
 rner. Mexican food theme dinner with latkes galore. $15 adults\, $10 stude
 nts - fundraiser event. Register in advance with the synagogue office - 90
 5 - 685-6767 - please leave a message and your call will be returned. Brin
 g your menorah and candles\, if you wish\, for this last day of Chanukah. 
 Location:190 Church St.\, St. Catharines
DTSTART;TZID=America/Toronto:20151213T170000
DTEND;TZID=America/Toronto:20151213T200000
END:VEVENT
END:VCALENDAR
