BEGIN:VCALENDAR
PRODID:-//eluceo/ical//2.0/EN
VERSION:2.0
CALSCALE:GREGORIAN
BEGIN:VEVENT
UID:f9471bb102617615d74551302ed15029
DTSTAMP:20260421T142003Z
SUMMARY:Spotlight on Israeli Culture - Diwan Saz Interfaith Ensemble Perfor
 mance 
DESCRIPTION:UJA Federation of Greater Toronto\nJewish Toronto Calendar\nhtt
 ps://jewishtoronto.com/calendar/spotlight-on-israeli-culture-diwan-saz-int
 erfaith-ensemble-performance\n\nTickets $25-30+HST.
DTSTART;TZID=America/Toronto:20150312T200000
DTEND;TZID=America/Toronto:20150312T220000
END:VEVENT
END:VCALENDAR
