BEGIN:VCALENDAR
PRODID:-//eluceo/ical//2.0/EN
VERSION:2.0
CALSCALE:GREGORIAN
BEGIN:VEVENT
UID:791878e40611ac6b745154536310d75a
DTSTAMP:20260419T232259Z
SUMMARY:Splash & Play at the J
DESCRIPTION:UJA Federation of Greater Toronto\nJewish Toronto Calendar\nhtt
 ps://jewishtoronto.com/calendar/splash--play-at-the-j-1472142330\n\nA day 
 of FREE fun that includes our famous Jungle Gym\, a Splash Party in the re
 novated saltwater pool. Women’s Boxercise\, adult drop-in volleyball\, k
 ids basketball and a special screening of the family feature film Havana C
 urveball at 4:00 pm presented by the Toronto Jewish Film Society.\n
DTSTART;TZID=America/Toronto:20160918T093000
DTEND;TZID=America/Toronto:20160918T180000
END:VEVENT
END:VCALENDAR
