BEGIN:VCALENDAR
PRODID:-//eluceo/ical//2.0/EN
VERSION:2.0
CALSCALE:GREGORIAN
BEGIN:VEVENT
UID:ad238592f4b1480c40d04545e5ea6b5c
DTSTAMP:20260422T160205Z
SUMMARY:Spiritual Insights from Hanukkah
DESCRIPTION:UJA Federation of Greater Toronto\nJewish Toronto Calendar\nhtt
 ps://jewishtoronto.com/calendar/spiritual-insights-from-haanukkah\n\nWhat 
 can Hanukkah teach us about about life and God's role(s) in the world? Co
 me learn and discuss with Rabbi Aaron how wisdom from Hanukkah can apply y
 ear-round.\n\nRegister: https://guestli.st/488496\n
DTSTART;TZID=America/Toronto:20171206T200000
DTEND;TZID=America/Toronto:20171206T213000
END:VEVENT
END:VCALENDAR
