BEGIN:VCALENDAR
PRODID:-//eluceo/ical//2.0/EN
VERSION:2.0
CALSCALE:GREGORIAN
BEGIN:VEVENT
UID:e893050bb79a384a71699e0965353975
DTSTAMP:20260422T080504Z
SUMMARY:Spirit of Hope Benefit
DESCRIPTION:UJA Federation of Greater Toronto\nJewish Toronto Calendar\nhtt
 ps://jewishtoronto.com/calendar/spirit-of-hope-benefit-1461687394\n\nThe S
 pirit of Hope Benefit is one of the most iconic fundraising events in the 
 City of Toronto bringing together top business leaders\, philanthropists\,
  community and political leaders in a celebration of the rights and freedo
 ms championed by Friends of Simon Wiesenthal Center. Past speakers have in
 cluded former Prime Minister Stephen Harper\; former Prime Minister Brian 
 Mulroney\; former Prime Minister of the United Kingdom\, Tony Blair\; Pres
 ident Bill Clinton\; President George W. Bush\; Vice Pre...
DTSTART;TZID=America/Toronto:20170518T180000
DTEND;TZID=America/Toronto:20170518T220000
END:VEVENT
END:VCALENDAR
