BEGIN:VCALENDAR
PRODID:-//eluceo/ical//2.0/EN
VERSION:2.0
CALSCALE:GREGORIAN
BEGIN:VEVENT
UID:45bb2aaf9b8b3b6067ffa6bc3cfb0f60
DTSTAMP:20260423T124716Z
SUMMARY:Spirit of Hope
DESCRIPTION:UJA Federation of Greater Toronto\nJewish Toronto Calendar\nhtt
 ps://jewishtoronto.com/calendar/spirit-of-hope-1528293416\n\nThe Spirit of
  Hope Benefit is one of the most iconic fundraising events in the City of 
 Toronto bringing together top business leaders\, philanthropists\, communi
 ty and political leaders in a celebration of the rights and freedoms champ
 ioned by Friends of Simon Wiesenthal Center. Past speakers have included t
 he late Shimon Peres\, former Prime Minister Stephen Harper\; former Prime
  Minister Brian Mulroney\; former Prime Ministers of the United Kingdom\, 
 Tony Blair & David Cameron\; President Bill Cli...
DTSTART;TZID=America/Toronto:20190618T170000
DTEND;TZID=America/Toronto:20190618T210000
END:VEVENT
END:VCALENDAR
