BEGIN:VCALENDAR
PRODID:-//eluceo/ical//2.0/EN
VERSION:2.0
CALSCALE:GREGORIAN
BEGIN:VEVENT
UID:7e8194fe42c6250e0d1d9a9ff2c56b4b
DTSTAMP:20260421T115421Z
SUMMARY:Special screening of 7 Days in Entebbe\, with review by Doron Almog
DESCRIPTION:UJA Federation of Greater Toronto\nJewish Toronto Calendar\nhtt
 ps://jewishtoronto.com/calendar/special-screening-of-7-days-in-entebbe-wit
 h-review-by-doron-almog-1519750687\n\nDoors open at 6:30 p.m.\nStart time 
 7:00 p.m.\nTickets - $15 (includes small popcorn and drink)
DTSTART;TZID=America/Toronto:20180321T190000
DTEND;TZID=America/Toronto:20180321T213000
END:VEVENT
END:VCALENDAR
