BEGIN:VCALENDAR
PRODID:-//eluceo/ical//2.0/EN
VERSION:2.0
CALSCALE:GREGORIAN
BEGIN:VEVENT
UID:71340e522247a1006222ceaa617aecd4
DTSTAMP:20260425T165421Z
SUMMARY:Special Interiew - Film - TJFS\, Spotlight Israel\, Reena\, JDAIM
DESCRIPTION:UJA Federation of Greater Toronto\nJewish Toronto Calendar\nhtt
 ps://jewishtoronto.com/calendar/special-interiew---film---tjfs-spotlight-i
 srael-reena-jdaim-1450663124\n\nPresented by Toronto Jewish Film Society\n
 Co-presented with Reena\, Spotlight on Israeli Culture and Jewish Disabili
 ties Awareness Month\nSunday\, February 21\, 4:00 pm & 7:30pm\nIsrael\, 20
 12\, Nitzan Rozenberg director\, 55 minutes\nA moderated panel will follow
  the screening.\n\nIsraeli journalists Efrat and Manatel share a common dr
 eam: to interview American President Barack Obama. They are also both deve
 lopmentally disabled. This tender documentary offers a glimpse into the po
 wer of purpose as...
DTSTART;TZID=America/Toronto:20160221T193000
DTEND;TZID=America/Toronto:20160221T210000
END:VEVENT
END:VCALENDAR
